BEGIN:VCALENDAR
VERSION:2.0
PRODID:icalendar-ruby
CALSCALE:GREGORIAN
METHOD:PUBLISH
BEGIN:VTIMEZONE
TZID:Australia/Perth
BEGIN:STANDARD
DTSTART:20090329T020000
TZOFFSETFROM:+0900
TZOFFSETTO:+0800
TZNAME:AWST
END:STANDARD
END:VTIMEZONE
BEGIN:VEVENT
DTSTAMP:20260419T152045Z
UID:inspection_3003181
DTSTART;TZID=Australia/Perth:20260421T163000
DTEND;TZID=Australia/Perth:20260421T164500
CLASS:PUBLIC
CREATED:20260418T122551
DESCRIPTION: 
LAST-MODIFIED:20260418T122551
LOCATION:1 / 30 Lovegrove Way\, MORLEY WA 6062\, Australia
SUMMARY:1 / 30 Lovegrove Way\,  Inspection
URL;VALUE=URI:http://rehomeproperty.com.au/
END:VEVENT
END:VCALENDAR
